BEGIN:VCALENDAR
VERSION:2.0
PRODID:-//Valdeblore - ECPv6.5.1.5//NONSGML v1.0//EN
CALSCALE:GREGORIAN
METHOD:PUBLISH
X-ORIGINAL-URL:https://ville-valdeblore.fr
X-WR-CALDESC:évènements pour Valdeblore
REFRESH-INTERVAL;VALUE=DURATION:PT1H
X-Robots-Tag:noindex
X-PUBLISHED-TTL:PT1H
BEGIN:VTIMEZONE
TZID:Europe/Paris
BEGIN:DAYLIGHT
TZOFFSETFROM:+0100
TZOFFSETTO:+0200
TZNAME:CEST
DTSTART:20260329T010000
END:DAYLIGHT
BEGIN:STANDARD
TZOFFSETFROM:+0200
TZOFFSETTO:+0100
TZNAME:CET
DTSTART:20261025T010000
END:STANDARD
END:VTIMEZONE
BEGIN:VEVENT
DTSTART;TZID=Europe/Paris:20260424T090000
DTEND;TZID=Europe/Paris:20260424T120000
DTSTAMP:20260422T174330
CREATED:20260421T143322Z
LAST-MODIFIED:20260421T143322Z
UID:5941-1777021200-1777032000@ville-valdeblore.fr
SUMMARY:L'Agence Mobile vous rend visite !
DESCRIPTION:
URL:https://ville-valdeblore.fr/?tribe_events=lagence-mobile-vous-rend-visite-13
LOCATION:La Colmiane
END:VEVENT
END:VCALENDAR